BEGIN:VCALENDAR
VERSION:2.0
PRODID:-//Evin-Malmaison - ECPv6.15.20//NONSGML v1.0//EN
CALSCALE:GREGORIAN
METHOD:PUBLISH
X-WR-CALNAME:Evin-Malmaison
X-ORIGINAL-URL:https://www.mairie-evin-malmaison.fr
X-WR-CALDESC:Évènements pour Evin-Malmaison
REFRESH-INTERVAL;VALUE=DURATION:PT1H
X-Robots-Tag:noindex
X-PUBLISHED-TTL:PT1H
BEGIN:VTIMEZONE
TZID:Europe/Paris
BEGIN:DAYLIGHT
TZOFFSETFROM:+0100
TZOFFSETTO:+0200
TZNAME:CEST
DTSTART:20250330T010000
END:DAYLIGHT
BEGIN:STANDARD
TZOFFSETFROM:+0200
TZOFFSETTO:+0100
TZNAME:CET
DTSTART:20251026T010000
END:STANDARD
BEGIN:DAYLIGHT
TZOFFSETFROM:+0100
TZOFFSETTO:+0200
TZNAME:CEST
DTSTART:20260329T010000
END:DAYLIGHT
BEGIN:STANDARD
TZOFFSETFROM:+0200
TZOFFSETTO:+0100
TZNAME:CET
DTSTART:20261025T010000
END:STANDARD
BEGIN:DAYLIGHT
TZOFFSETFROM:+0100
TZOFFSETTO:+0200
TZNAME:CEST
DTSTART:20270328T010000
END:DAYLIGHT
BEGIN:STANDARD
TZOFFSETFROM:+0200
TZOFFSETTO:+0100
TZNAME:CET
DTSTART:20271031T010000
END:STANDARD
END:VTIMEZONE
BEGIN:VEVENT
DTSTART;TZID=Europe/Paris:20260301T160000
DTEND;TZID=Europe/Paris:20260301T180000
DTSTAMP:20260421T155443
CREATED:20260127T122746Z
LAST-MODIFIED:20260127T122746Z
UID:37501-1772380800-1772388000@www.mairie-evin-malmaison.fr
SUMMARY:Concert de printemps
DESCRIPTION:
URL:https://www.mairie-evin-malmaison.fr/event/week-end-culturel-concert-de-printemps/
LOCATION:Salle Dutilleul\, EVIN MALMAISON\, France
CATEGORIES:association
ATTACH;FMTTYPE=image/jpeg:https://www.mairie-evin-malmaison.fr/wp-content/uploads/2026/01/626312296_10240470788448606_3739673795669270766_n.jpg
END:VEVENT
BEGIN:VEVENT
DTSTART;TZID=Europe/Paris:20260307T140000
DTEND;TZID=Europe/Paris:20260307T170000
DTSTAMP:20260421T155443
CREATED:20260215T155003Z
LAST-MODIFIED:20260215T155003Z
UID:37549-1772892000-1772902800@www.mairie-evin-malmaison.fr
SUMMARY:Repair Café #9
DESCRIPTION:
URL:https://www.mairie-evin-malmaison.fr/event/repair-cafe-9/
LOCATION:salle polyvalente Daniel Goczkowski
CATEGORIES:association
ATTACH;FMTTYPE=image/jpeg:https://www.mairie-evin-malmaison.fr/wp-content/uploads/2026/02/WhatsApp-Image-2026-02-08-at-19.20.08.jpeg
END:VEVENT
BEGIN:VEVENT
DTSTART;TZID=Europe/Paris:20260308T120000
DTEND;TZID=Europe/Paris:20260308T190000
DTSTAMP:20260421T155443
CREATED:20260115T124238Z
LAST-MODIFIED:20260115T124238Z
UID:37492-1772971200-1772996400@www.mairie-evin-malmaison.fr
SUMMARY:Repas de printemps
DESCRIPTION:
URL:https://www.mairie-evin-malmaison.fr/event/repas-de-printemps/
LOCATION:Foyer Dugardin
CATEGORIES:association
ATTACH;FMTTYPE=image/jpeg:https://www.mairie-evin-malmaison.fr/wp-content/uploads/2026/01/615864608_122143816526966932_6603257623093955813_n.jpg
END:VEVENT
BEGIN:VEVENT
DTSTART;TZID=Europe/Paris:20260308T140000
DTEND;TZID=Europe/Paris:20260308T190000
DTSTAMP:20260421T155443
CREATED:20260127T095905Z
LAST-MODIFIED:20260127T095905Z
UID:37497-1772978400-1772996400@www.mairie-evin-malmaison.fr
SUMMARY:Loto familial
DESCRIPTION:
URL:https://www.mairie-evin-malmaison.fr/event/loto-familial/
LOCATION:Salle Dutilleul\, EVIN MALMAISON\, France
CATEGORIES:association
ATTACH;FMTTYPE=image/jpeg:https://www.mairie-evin-malmaison.fr/wp-content/uploads/2026/01/618480615_875911775024706_4900564751335051877_n.jpg
END:VEVENT
BEGIN:VEVENT
DTSTART;TZID=Europe/Paris:20260311T190000
DTEND;TZID=Europe/Paris:20260311T210000
DTSTAMP:20260421T155443
CREATED:20260306T133821Z
LAST-MODIFIED:20260306T133821Z
UID:37551-1773255600-1773262800@www.mairie-evin-malmaison.fr
SUMMARY:Conseil Municipal
DESCRIPTION:
URL:https://www.mairie-evin-malmaison.fr/event/conseil-municipal-5/
LOCATION:Mairie
CATEGORIES:Municipalité
ATTACH;FMTTYPE=image/jpeg:https://www.mairie-evin-malmaison.fr/wp-content/uploads/2026/03/647287707_1259115366403524_819027540130241_n.jpg
END:VEVENT
BEGIN:VEVENT
DTSTART;TZID=Europe/Paris:20260312T183000
DTEND;TZID=Europe/Paris:20260312T200000
DTSTAMP:20260421T155443
CREATED:20260206T130657Z
LAST-MODIFIED:20260206T130657Z
UID:37547-1773340200-1773345600@www.mairie-evin-malmaison.fr
SUMMARY:Réunion publique sur le compostage avec le SYMEVAD
DESCRIPTION:
URL:https://www.mairie-evin-malmaison.fr/event/reunion-publique-sur-le-compostage-avec-le-symevad/
LOCATION:Symevad\, 60 rue Mirabeau Prolongée\, Évin-Malmaison\, 62141\, France
CATEGORIES:association
ATTACH;FMTTYPE=image/jpeg:https://www.mairie-evin-malmaison.fr/wp-content/uploads/2026/02/625962007_1351989740275315_7588670985340300747_n.jpg
ORGANIZER;CN="Symevad":MAILTO:communication@symevad.org
END:VEVENT
BEGIN:VEVENT
DTSTART;TZID=Europe/Paris:20260313T070000
DTEND;TZID=Europe/Paris:20260313T190000
DTSTAMP:20260421T155443
CREATED:20260309T113525Z
LAST-MODIFIED:20260309T113525Z
UID:37552-1773385200-1773428400@www.mairie-evin-malmaison.fr
SUMMARY:Dépistage rénal gratuit
DESCRIPTION:
URL:https://www.mairie-evin-malmaison.fr/event/depistage-renal-gratuit/
CATEGORIES:association
ATTACH;FMTTYPE=image/jpeg:https://www.mairie-evin-malmaison.fr/wp-content/uploads/2026/03/encart-presse-et-numerique-snr-2026-france-rein-rvb-150dpi.jpg
END:VEVENT
BEGIN:VEVENT
DTSTART;TZID=Europe/Paris:20260315T080000
DTEND;TZID=Europe/Paris:20260315T180000
DTSTAMP:20260421T155443
CREATED:20251210T145524Z
LAST-MODIFIED:20251210T145524Z
UID:37480-1773561600-1773597600@www.mairie-evin-malmaison.fr
SUMMARY:Premier tour des élections municipales
DESCRIPTION:
URL:https://www.mairie-evin-malmaison.fr/event/premier-tour-des-elections-municipales/
CATEGORIES:Municipalité
ATTACH;FMTTYPE=image/jpeg:https://www.mairie-evin-malmaison.fr/wp-content/uploads/2025/12/Vignette-allons-voter.jpg
END:VEVENT
BEGIN:VEVENT
DTSTART;VALUE=DATE:20260319
DTEND;VALUE=DATE:20260320
DTSTAMP:20260421T155443
CREATED:20260127T122047Z
LAST-MODIFIED:20260127T122047Z
UID:37498-1773878400-1773964799@www.mairie-evin-malmaison.fr
SUMMARY:Cérémonie officielle
DESCRIPTION:
URL:https://www.mairie-evin-malmaison.fr/event/ceremonie-officielle-8/
CATEGORIES:Municipalité
END:VEVENT
BEGIN:VEVENT
DTSTART;VALUE=DATE:20260321
DTEND;VALUE=DATE:20260322
DTSTAMP:20260421T155443
CREATED:20260305T075405Z
LAST-MODIFIED:20260305T075405Z
UID:37469-1774051200-1774137599@www.mairie-evin-malmaison.fr
SUMMARY:journée mondiale sensibilisation trisomie 21
DESCRIPTION:
URL:https://www.mairie-evin-malmaison.fr/event/journee-nationale-sensibilisation-trisomie-21/
ATTACH;FMTTYPE=image/jpeg:https://www.mairie-evin-malmaison.fr/wp-content/uploads/2026/03/chaussettes-depareillees.jpg
END:VEVENT
BEGIN:VEVENT
DTSTART;TZID=Europe/Paris:20260322T080000
DTEND;TZID=Europe/Paris:20260322T180000
DTSTAMP:20260421T155443
CREATED:20251210T145602Z
LAST-MODIFIED:20251210T145602Z
UID:37481-1774166400-1774202400@www.mairie-evin-malmaison.fr
SUMMARY:Second tour des élections municipales
DESCRIPTION:
URL:https://www.mairie-evin-malmaison.fr/event/second-tour-des-elections-municipales/
CATEGORIES:Municipalité
ATTACH;FMTTYPE=image/jpeg:https://www.mairie-evin-malmaison.fr/wp-content/uploads/2025/12/Vignette-allons-voter.jpg
END:VEVENT
BEGIN:VEVENT
DTSTART;TZID=Europe/Paris:20260328T110000
DTEND;TZID=Europe/Paris:20260328T130000
DTSTAMP:20260421T155443
CREATED:20260324T075724Z
LAST-MODIFIED:20260324T075724Z
UID:37495-1774695600-1774702800@www.mairie-evin-malmaison.fr
SUMMARY:Installation du Conseil Municipal
DESCRIPTION:
URL:https://www.mairie-evin-malmaison.fr/event/installation-du-conseil-municipal/
LOCATION:Salle Dutilleul\, EVIN MALMAISON\, France
CATEGORIES:Municipalité
ATTACH;FMTTYPE=image/jpeg:https://www.mairie-evin-malmaison.fr/wp-content/uploads/2026/03/IMG-20260323-WA0038.jpg
END:VEVENT
END:VCALENDAR