BEGIN:VCALENDAR
VERSION:2.0
PRODID:-//Evin-Malmaison - ECPv6.15.20//NONSGML v1.0//EN
CALSCALE:GREGORIAN
METHOD:PUBLISH
X-WR-CALNAME:Evin-Malmaison
X-ORIGINAL-URL:https://www.mairie-evin-malmaison.fr
X-WR-CALDESC:Évènements pour Evin-Malmaison
REFRESH-INTERVAL;VALUE=DURATION:PT1H
X-Robots-Tag:noindex
X-PUBLISHED-TTL:PT1H
BEGIN:VTIMEZONE
TZID:Europe/Paris
BEGIN:DAYLIGHT
TZOFFSETFROM:+0100
TZOFFSETTO:+0200
TZNAME:CEST
DTSTART:20250330T010000
END:DAYLIGHT
BEGIN:STANDARD
TZOFFSETFROM:+0200
TZOFFSETTO:+0100
TZNAME:CET
DTSTART:20251026T010000
END:STANDARD
BEGIN:DAYLIGHT
TZOFFSETFROM:+0100
TZOFFSETTO:+0200
TZNAME:CEST
DTSTART:20260329T010000
END:DAYLIGHT
BEGIN:STANDARD
TZOFFSETFROM:+0200
TZOFFSETTO:+0100
TZNAME:CET
DTSTART:20261025T010000
END:STANDARD
BEGIN:DAYLIGHT
TZOFFSETFROM:+0100
TZOFFSETTO:+0200
TZNAME:CEST
DTSTART:20270328T010000
END:DAYLIGHT
BEGIN:STANDARD
TZOFFSETFROM:+0200
TZOFFSETTO:+0100
TZNAME:CET
DTSTART:20271031T010000
END:STANDARD
END:VTIMEZONE
BEGIN:VEVENT
DTSTART;TZID=Europe/Paris:20260110T080000
DTEND;TZID=Europe/Paris:20260110T120000
DTSTAMP:20260421T180633
CREATED:20260103T213211Z
LAST-MODIFIED:20260103T213211Z
UID:37488-1768032000-1768046400@www.mairie-evin-malmaison.fr
SUMMARY:Dong de sang
DESCRIPTION:
URL:https://www.mairie-evin-malmaison.fr/event/dong-de-sang/
LOCATION:Salle Dutilleul\, EVIN MALMAISON\, France
CATEGORIES:association
ATTACH;FMTTYPE=image/jpeg:https://www.mairie-evin-malmaison.fr/wp-content/uploads/2026/01/facebook_1767471104187_7413311122176387394.jpg
END:VEVENT
BEGIN:VEVENT
DTSTART;TZID=Europe/Paris:20260111T100000
DTEND;TZID=Europe/Paris:20260111T120000
DTSTAMP:20260421T180633
CREATED:20251214T170613Z
LAST-MODIFIED:20251214T170613Z
UID:37459-1768125600-1768132800@www.mairie-evin-malmaison.fr
SUMMARY:Les rendez-vous Évinois aux élans
DESCRIPTION:
URL:https://www.mairie-evin-malmaison.fr/event/les-rendez-vous-evinois-aux-elans/
LOCATION:Salle Dutilleul\, EVIN MALMAISON\, France
CATEGORIES:association
ATTACH;FMTTYPE=image/png:https://www.mairie-evin-malmaison.fr/wp-content/uploads/2025/12/Tract-elus-habitants-11-janvier-Elan2.png
END:VEVENT
BEGIN:VEVENT
DTSTART;TZID=Europe/Paris:20260117T140000
DTEND;TZID=Europe/Paris:20260117T170000
DTSTAMP:20260421T180633
CREATED:20251210T090524Z
LAST-MODIFIED:20251210T090524Z
UID:37478-1768658400-1768669200@www.mairie-evin-malmaison.fr
SUMMARY:Repair Café #7
DESCRIPTION:
URL:https://www.mairie-evin-malmaison.fr/event/repair-cafe-7/
LOCATION:salle polyvalente Daniel Goczkowski
CATEGORIES:association
ATTACH;FMTTYPE=image/png:https://www.mairie-evin-malmaison.fr/wp-content/uploads/2025/12/Repair-7.png
END:VEVENT
BEGIN:VEVENT
DTSTART;TZID=Europe/Paris:20260118T103000
DTEND;TZID=Europe/Paris:20260118T123000
DTSTAMP:20260421T180633
CREATED:20251209T174145Z
LAST-MODIFIED:20251209T174145Z
UID:37458-1768732200-1768739400@www.mairie-evin-malmaison.fr
SUMMARY:Cérémonie des voeux
DESCRIPTION:
URL:https://www.mairie-evin-malmaison.fr/event/ceremonie-des-voeux/
LOCATION:Salle Dutilleul\, EVIN MALMAISON\, France
CATEGORIES:Municipalité
ATTACH;FMTTYPE=image/jpeg:https://www.mairie-evin-malmaison.fr/wp-content/uploads/2026/01/FB_IMG_1767360623250.jpg
END:VEVENT
BEGIN:VEVENT
DTSTART;TZID=Europe/Paris:20260124T100000
DTEND;TZID=Europe/Paris:20260124T120000
DTSTAMP:20260421T180633
CREATED:20260106T081607Z
LAST-MODIFIED:20260106T081607Z
UID:37489-1769248800-1769256000@www.mairie-evin-malmaison.fr
SUMMARY:Assemblée générale Evin'sion Fantaisie
DESCRIPTION:
URL:https://www.mairie-evin-malmaison.fr/event/assemblee-generale-evinsion-fantaisie/
LOCATION:Foyer Dugardin
CATEGORIES:association
ATTACH;FMTTYPE=image/jpeg:https://www.mairie-evin-malmaison.fr/wp-content/uploads/2026/01/WhatsApp-Image-2026-01-16-at-14.20.48.jpeg
END:VEVENT
BEGIN:VEVENT
DTSTART;TZID=Europe/Paris:20260125T100000
DTEND;TZID=Europe/Paris:20260125T120000
DTSTAMP:20260421T180633
CREATED:20251214T170853Z
LAST-MODIFIED:20251214T170853Z
UID:37460-1769335200-1769342400@www.mairie-evin-malmaison.fr
SUMMARY:Les rendez-vous Évinois à la Pannerie
DESCRIPTION:
URL:https://www.mairie-evin-malmaison.fr/event/les-rendez-vous-evinois-a-la-pannerie/
LOCATION:rue Jean Jaurès Prolongée
CATEGORIES:association
ATTACH;FMTTYPE=image/png:https://www.mairie-evin-malmaison.fr/wp-content/uploads/2025/12/Tract-elus-habitants-25-janv-pannerie2.png
END:VEVENT
BEGIN:VEVENT
DTSTART;TZID=Europe/Paris:20260131T090000
DTEND;TZID=Europe/Paris:20260131T170000
DTSTAMP:20260421T180633
CREATED:20260121T111040Z
LAST-MODIFIED:20260121T111040Z
UID:37493-1769850000-1769878800@www.mairie-evin-malmaison.fr
SUMMARY:Journée porte ouverte au centre de tri (sur inscription)
DESCRIPTION:
URL:https://www.mairie-evin-malmaison.fr/event/journee-porte-ouverte-au-centre-de-tri-sur-inscription/
LOCATION:Symevad\, 60 rue Mirabeau Prolongée\, Évin-Malmaison\, 62141\, France
CATEGORIES:Commerces
ATTACH;FMTTYPE=image/jpeg:https://www.mairie-evin-malmaison.fr/wp-content/uploads/2026/01/612868347_1304533385044201_7552082044790172388_n.jpg
ORGANIZER;CN="Symevad":MAILTO:communication@symevad.org
END:VEVENT
BEGIN:VEVENT
DTSTART;TZID=Europe/Paris:20260131T103000
DTEND;TZID=Europe/Paris:20260131T140000
DTSTAMP:20260421T180633
CREATED:20260127T095141Z
LAST-MODIFIED:20260127T095141Z
UID:37467-1769855400-1769868000@www.mairie-evin-malmaison.fr
SUMMARY:Assemblée Générale Quartier Libre
DESCRIPTION:
URL:https://www.mairie-evin-malmaison.fr/event/assemblee-generale-quartier-libre/
LOCATION:cantine solidaire
ATTACH;FMTTYPE=image/jpeg:https://www.mairie-evin-malmaison.fr/wp-content/uploads/2026/01/621712297_905306935401427_3072376315028123216_n.jpg
END:VEVENT
END:VCALENDAR