BEGIN:VCALENDAR
VERSION:2.0
PRODID:-//Evin-Malmaison - ECPv6.15.20//NONSGML v1.0//EN
CALSCALE:GREGORIAN
METHOD:PUBLISH
X-WR-CALNAME:Evin-Malmaison
X-ORIGINAL-URL:https://www.mairie-evin-malmaison.fr
X-WR-CALDESC:Évènements pour Evin-Malmaison
REFRESH-INTERVAL;VALUE=DURATION:PT1H
X-Robots-Tag:noindex
X-PUBLISHED-TTL:PT1H
BEGIN:VTIMEZONE
TZID:Europe/Paris
BEGIN:DAYLIGHT
TZOFFSETFROM:+0100
TZOFFSETTO:+0200
TZNAME:CEST
DTSTART:20240331T010000
END:DAYLIGHT
BEGIN:STANDARD
TZOFFSETFROM:+0200
TZOFFSETTO:+0100
TZNAME:CET
DTSTART:20241027T010000
END:STANDARD
BEGIN:DAYLIGHT
TZOFFSETFROM:+0100
TZOFFSETTO:+0200
TZNAME:CEST
DTSTART:20250330T010000
END:DAYLIGHT
BEGIN:STANDARD
TZOFFSETFROM:+0200
TZOFFSETTO:+0100
TZNAME:CET
DTSTART:20251026T010000
END:STANDARD
BEGIN:DAYLIGHT
TZOFFSETFROM:+0100
TZOFFSETTO:+0200
TZNAME:CEST
DTSTART:20260329T010000
END:DAYLIGHT
BEGIN:STANDARD
TZOFFSETFROM:+0200
TZOFFSETTO:+0100
TZNAME:CET
DTSTART:20261025T010000
END:STANDARD
END:VTIMEZONE
BEGIN:VEVENT
DTSTART;VALUE=DATE:20251005
DTEND;VALUE=DATE:20251006
DTSTAMP:20260422T030226
CREATED:20250316T211928Z
LAST-MODIFIED:20250316T211928Z
UID:37580-1759622400-1759708799@www.mairie-evin-malmaison.fr
SUMMARY:Banquet des aînés
DESCRIPTION:
URL:https://www.mairie-evin-malmaison.fr/event/banquet-des-aines/
LOCATION:Salle Dutilleul\, EVIN MALMAISON\, France
CATEGORIES:Municipalité
END:VEVENT
BEGIN:VEVENT
DTSTART;TZID=Europe/Paris:20251011T140000
DTEND;TZID=Europe/Paris:20251011T170000
DTSTAMP:20260422T030226
CREATED:20250728T214228Z
LAST-MODIFIED:20250728T214228Z
UID:37611-1760191200-1760202000@www.mairie-evin-malmaison.fr
SUMMARY:Repair café #4
DESCRIPTION:
URL:https://www.mairie-evin-malmaison.fr/event/repair-cafe-4/
LOCATION:salle polyvalente Daniel Goczkowski
CATEGORIES:association
ATTACH;FMTTYPE=image/jpeg:https://www.mairie-evin-malmaison.fr/wp-content/uploads/2025/07/IMG-20250728-WA0018-e1753738624778.jpg
END:VEVENT
BEGIN:VEVENT
DTSTART;VALUE=DATE:20251012
DTEND;VALUE=DATE:20251013
DTSTAMP:20260422T030226
CREATED:20250316T212123Z
LAST-MODIFIED:20250316T212123Z
UID:37581-1760227200-1760313599@www.mairie-evin-malmaison.fr
SUMMARY:Balade Rose
DESCRIPTION:
URL:https://www.mairie-evin-malmaison.fr/event/balade-rose/
LOCATION:Salle Dutilleul\, EVIN MALMAISON\, France
CATEGORIES:Municipalité
END:VEVENT
BEGIN:VEVENT
DTSTART;VALUE=DATE:20251017
DTEND;VALUE=DATE:20251018
DTSTAMP:20260422T030226
CREATED:20250316T212233Z
LAST-MODIFIED:20250316T212233Z
UID:37582-1760659200-1760745599@www.mairie-evin-malmaison.fr
SUMMARY:Concours de Belote
DESCRIPTION:
URL:https://www.mairie-evin-malmaison.fr/event/concours-de-belote/
LOCATION:Foyer Dugardin
CATEGORIES:association
END:VEVENT
BEGIN:VEVENT
DTSTART;VALUE=DATE:20251025
DTEND;VALUE=DATE:20251026
DTSTAMP:20260422T030226
CREATED:20250316T212354Z
LAST-MODIFIED:20250316T212354Z
UID:37583-1761350400-1761436799@www.mairie-evin-malmaison.fr
SUMMARY:Concert des Automnales
DESCRIPTION:
URL:https://www.mairie-evin-malmaison.fr/event/concert-des-automnales/
LOCATION:Salle Dutilleul\, EVIN MALMAISON\, France
CATEGORIES:association
END:VEVENT
BEGIN:VEVENT
DTSTART;VALUE=DATE:20251031
DTEND;VALUE=DATE:20251101
DTSTAMP:20260422T030226
CREATED:20250316T212527Z
LAST-MODIFIED:20250316T212527Z
UID:37584-1761868800-1761955199@www.mairie-evin-malmaison.fr
SUMMARY:Animations Halloween
DESCRIPTION:
URL:https://www.mairie-evin-malmaison.fr/event/animations-halloween/
LOCATION:Foyer Dugardin
CATEGORIES:association
END:VEVENT
END:VCALENDAR