BEGIN:VCALENDAR
VERSION:2.0
PRODID:-//Evin-Malmaison - ECPv6.15.20//NONSGML v1.0//EN
CALSCALE:GREGORIAN
METHOD:PUBLISH
X-ORIGINAL-URL:https://www.mairie-evin-malmaison.fr
X-WR-CALDESC:Évènements pour Evin-Malmaison
REFRESH-INTERVAL;VALUE=DURATION:PT1H
X-Robots-Tag:noindex
X-PUBLISHED-TTL:PT1H
BEGIN:VTIMEZONE
TZID:Europe/Paris
BEGIN:DAYLIGHT
TZOFFSETFROM:+0100
TZOFFSETTO:+0200
TZNAME:CEST
DTSTART:20250330T010000
END:DAYLIGHT
BEGIN:STANDARD
TZOFFSETFROM:+0200
TZOFFSETTO:+0100
TZNAME:CET
DTSTART:20251026T010000
END:STANDARD
BEGIN:DAYLIGHT
TZOFFSETFROM:+0100
TZOFFSETTO:+0200
TZNAME:CEST
DTSTART:20260329T010000
END:DAYLIGHT
BEGIN:STANDARD
TZOFFSETFROM:+0200
TZOFFSETTO:+0100
TZNAME:CET
DTSTART:20261025T010000
END:STANDARD
BEGIN:DAYLIGHT
TZOFFSETFROM:+0100
TZOFFSETTO:+0200
TZNAME:CEST
DTSTART:20270328T010000
END:DAYLIGHT
BEGIN:STANDARD
TZOFFSETFROM:+0200
TZOFFSETTO:+0100
TZNAME:CET
DTSTART:20271031T010000
END:STANDARD
END:VTIMEZONE
BEGIN:VTIMEZONE
TZID:Europe/Zurich
BEGIN:DAYLIGHT
TZOFFSETFROM:+0100
TZOFFSETTO:+0200
TZNAME:CEST
DTSTART:20250330T010000
END:DAYLIGHT
BEGIN:STANDARD
TZOFFSETFROM:+0200
TZOFFSETTO:+0100
TZNAME:CET
DTSTART:20251026T010000
END:STANDARD
BEGIN:DAYLIGHT
TZOFFSETFROM:+0100
TZOFFSETTO:+0200
TZNAME:CEST
DTSTART:20260329T010000
END:DAYLIGHT
BEGIN:STANDARD
TZOFFSETFROM:+0200
TZOFFSETTO:+0100
TZNAME:CET
DTSTART:20261025T010000
END:STANDARD
BEGIN:DAYLIGHT
TZOFFSETFROM:+0100
TZOFFSETTO:+0200
TZNAME:CEST
DTSTART:20270328T010000
END:DAYLIGHT
BEGIN:STANDARD
TZOFFSETFROM:+0200
TZOFFSETTO:+0100
TZNAME:CET
DTSTART:20271031T010000
END:STANDARD
END:VTIMEZONE
BEGIN:VEVENT
DTSTART;VALUE=DATE:20260618
DTEND;VALUE=DATE:20260619
DTSTAMP:20260421T131127
CREATED:20260128T144527Z
LAST-MODIFIED:20260128T144527Z
UID:37509-1781740800-1781827199@www.mairie-evin-malmaison.fr
SUMMARY:Cérémonie officielle
DESCRIPTION:
URL:https://www.mairie-evin-malmaison.fr/event/ceremonie-officielle-12/
CATEGORIES:Municipalité
END:VEVENT
BEGIN:VEVENT
DTSTART;VALUE=DATE:20260619
DTEND;VALUE=DATE:20260620
DTSTAMP:20260421T131127
CREATED:20260128T144654Z
LAST-MODIFIED:20260128T144654Z
UID:37510-1781827200-1781913599@www.mairie-evin-malmaison.fr
SUMMARY:Kermesse de l'école Dolto
DESCRIPTION:
URL:https://www.mairie-evin-malmaison.fr/event/kermesse-de-lecole-dolto-2/
LOCATION:Ecole Dolto
CATEGORIES:association
END:VEVENT
BEGIN:VEVENT
DTSTART;TZID=Europe/Paris:20260620T080000
DTEND;TZID=Europe/Paris:20260620T120000
DTSTAMP:20260421T131127
CREATED:20260128T144904Z
LAST-MODIFIED:20260128T144904Z
UID:37511-1781942400-1781956800@www.mairie-evin-malmaison.fr
SUMMARY:Don de sang
DESCRIPTION:
URL:https://www.mairie-evin-malmaison.fr/event/don-de-sang-2/
LOCATION:Salle Dutilleul\, EVIN MALMAISON\, France
CATEGORIES:association
END:VEVENT
BEGIN:VEVENT
DTSTART;TZID=Europe/Zurich:20260620T080000
DTEND;TZID=Europe/Zurich:20260620T170000
DTSTAMP:20260421T131127
CREATED:20260420T212911Z
LAST-MODIFIED:20260420T212911Z
UID:37761-1781942400-1781974800@www.mairie-evin-malmaison.fr
SUMMARY:Journée porte ouverte au centre de tri (sur inscription)
DESCRIPTION:
URL:https://www.mairie-evin-malmaison.fr/event/journee-porte-ouverte-au-centre-de-tri-sur-inscription-3/
LOCATION:Symevad\, 60 rue Mirabeau Prolongée\, Évin-Malmaison\, 62141\, France
CATEGORIES:Commerces
ORGANIZER;CN="Symevad":MAILTO:communication@symevad.org
END:VEVENT
BEGIN:VEVENT
DTSTART;TZID=Europe/Paris:20260620T180000
DTEND;TZID=Europe/Paris:20260620T230000
DTSTAMP:20260421T131127
CREATED:20260128T145030Z
LAST-MODIFIED:20260128T145030Z
UID:37512-1781978400-1781996400@www.mairie-evin-malmaison.fr
SUMMARY:Fête de la musique
DESCRIPTION:
URL:https://www.mairie-evin-malmaison.fr/event/fete-de-la-musique-2/
LOCATION:Place Salengro (Eglise)
CATEGORIES:association
END:VEVENT
BEGIN:VEVENT
DTSTART;VALUE=DATE:20260626
DTEND;VALUE=DATE:20260627
DTSTAMP:20260421T131127
CREATED:20260128T145240Z
LAST-MODIFIED:20260128T145240Z
UID:37513-1782432000-1782518399@www.mairie-evin-malmaison.fr
SUMMARY:Kermesse de l'école Blum
DESCRIPTION:
URL:https://www.mairie-evin-malmaison.fr/event/kermesse-de-lecole-blum-2/
LOCATION:Ecole Blum\, 1 rue Danton\, Évin-Malmaison\, 62141\, France
CATEGORIES:association
END:VEVENT
BEGIN:VEVENT
DTSTART;VALUE=DATE:20260627
DTEND;VALUE=DATE:20260628
DTSTAMP:20260421T131127
CREATED:20260128T145348Z
LAST-MODIFIED:20260128T145348Z
UID:37514-1782518400-1782604799@www.mairie-evin-malmaison.fr
SUMMARY:Kermesse de l'école Méresse
DESCRIPTION:
URL:https://www.mairie-evin-malmaison.fr/event/kermesse-de-lecole-meresse-2/
LOCATION:Ecole Méresse
CATEGORIES:association
END:VEVENT
BEGIN:VEVENT
DTSTART;VALUE=DATE:20260704
DTEND;VALUE=DATE:20260705
DTSTAMP:20260421T131127
CREATED:20260128T145704Z
LAST-MODIFIED:20260128T145704Z
UID:37515-1783123200-1783209599@www.mairie-evin-malmaison.fr
SUMMARY:Quartier d'été
DESCRIPTION:
URL:https://www.mairie-evin-malmaison.fr/event/quartier-dete/
CATEGORIES:Municipalité
END:VEVENT
BEGIN:VEVENT
DTSTART;VALUE=DATE:20260714
DTEND;VALUE=DATE:20260715
DTSTAMP:20260421T131127
CREATED:20260128T145804Z
LAST-MODIFIED:20260128T145804Z
UID:37516-1783987200-1784073599@www.mairie-evin-malmaison.fr
SUMMARY:Cérémonie officielle et fête nationale
DESCRIPTION:
URL:https://www.mairie-evin-malmaison.fr/event/ceremonie-officielle-et-fete-nationale-2/
CATEGORIES:Municipalité
END:VEVENT
BEGIN:VEVENT
DTSTART;TZID=Europe/Zurich:20260714T100000
DTEND;TZID=Europe/Zurich:20260714T180000
DTSTAMP:20260421T131127
CREATED:20260420T212404Z
LAST-MODIFIED:20260420T212404Z
UID:37759-1784023200-1784052000@www.mairie-evin-malmaison.fr
SUMMARY:Tournoi de pétanque - Grand prix de la ville
DESCRIPTION:
URL:https://www.mairie-evin-malmaison.fr/event/tournoi-de-petanque-grand-prix-de-la-ville/
LOCATION:Stade Municipal
CATEGORIES:association
ATTACH;FMTTYPE=image/jpeg:https://www.mairie-evin-malmaison.fr/wp-content/uploads/2026/01/672688342_2455964444876524_3258368579835395945_n.jpg
END:VEVENT
BEGIN:VEVENT
DTSTART;TZID=Europe/Paris:20260808T180000
DTEND;TZID=Europe/Paris:20260808T233000
DTSTAMP:20260421T131127
CREATED:20260128T145939Z
LAST-MODIFIED:20260128T145939Z
UID:37517-1786212000-1786231800@www.mairie-evin-malmaison.fr
SUMMARY:Repas organisé par les Dynamics
DESCRIPTION:
URL:https://www.mairie-evin-malmaison.fr/event/repas-organise-par-les-dynamics/
LOCATION:Foyer Dugardin
CATEGORIES:association
END:VEVENT
BEGIN:VEVENT
DTSTART;VALUE=DATE:20260905
DTEND;VALUE=DATE:20260906
DTSTAMP:20260421T131127
CREATED:20260131T214524Z
LAST-MODIFIED:20260131T214524Z
UID:37523-1788566400-1788652799@www.mairie-evin-malmaison.fr
SUMMARY:Forum des associations
DESCRIPTION:
URL:https://www.mairie-evin-malmaison.fr/event/forum-des-associations-2/
LOCATION:Salle Dutilleul\, EVIN MALMAISON\, France
CATEGORIES:Municipalité
END:VEVENT
BEGIN:VEVENT
DTSTART;TZID=Europe/Paris:20260912T140000
DTEND;TZID=Europe/Paris:20260912T190000
DTSTAMP:20260421T131127
CREATED:20260129T142653Z
LAST-MODIFIED:20260129T142653Z
UID:37519-1789221600-1789239600@www.mairie-evin-malmaison.fr
SUMMARY:Loto
DESCRIPTION:
URL:https://www.mairie-evin-malmaison.fr/event/loto-5/
LOCATION:Salle Dutilleul\, EVIN MALMAISON\, France
CATEGORIES:association
END:VEVENT
BEGIN:VEVENT
DTSTART;TZID=Europe/Paris:20260919T080000
DTEND;TZID=Europe/Paris:20260919T120000
DTSTAMP:20260421T131127
CREATED:20260131T214836Z
LAST-MODIFIED:20260131T214836Z
UID:37524-1789804800-1789819200@www.mairie-evin-malmaison.fr
SUMMARY:Don de sang
DESCRIPTION:
URL:https://www.mairie-evin-malmaison.fr/event/don-de-sang-3/
LOCATION:Salle Dutilleul\, EVIN MALMAISON\, France
CATEGORIES:association
END:VEVENT
BEGIN:VEVENT
DTSTART;TZID=Europe/Paris:20260926T190000
DTEND;TZID=Europe/Paris:20260926T233000
DTSTAMP:20260421T131127
CREATED:20260131T214940Z
LAST-MODIFIED:20260131T214940Z
UID:37525-1790449200-1790465400@www.mairie-evin-malmaison.fr
SUMMARY:Concert
DESCRIPTION:
URL:https://www.mairie-evin-malmaison.fr/event/concert/
LOCATION:Salle Dutilleul\, EVIN MALMAISON\, France
CATEGORIES:association
END:VEVENT
BEGIN:VEVENT
DTSTART;TZID=Europe/Paris:20261004T120000
DTEND;TZID=Europe/Paris:20261004T190000
DTSTAMP:20260421T131127
CREATED:20260131T215051Z
LAST-MODIFIED:20260131T215051Z
UID:37526-1791115200-1791140400@www.mairie-evin-malmaison.fr
SUMMARY:Banquet des aînés
DESCRIPTION:
URL:https://www.mairie-evin-malmaison.fr/event/banquet-des-aines-2/
LOCATION:Salle Dutilleul\, EVIN MALMAISON\, France
CATEGORIES:association
END:VEVENT
BEGIN:VEVENT
DTSTART;VALUE=DATE:20261011
DTEND;VALUE=DATE:20261012
DTSTAMP:20260421T131127
CREATED:20260131T215145Z
LAST-MODIFIED:20260131T215145Z
UID:37527-1791676800-1791763199@www.mairie-evin-malmaison.fr
SUMMARY:Balade Rose
DESCRIPTION:
URL:https://www.mairie-evin-malmaison.fr/event/balade-rose-2/
LOCATION:Salle Dutilleul\, EVIN MALMAISON\, France
CATEGORIES:association
END:VEVENT
BEGIN:VEVENT
DTSTART;TZID=Europe/Paris:20261017T100000
DTEND;TZID=Europe/Paris:20261017T170000
DTSTAMP:20260421T131127
CREATED:20260129T142816Z
LAST-MODIFIED:20260129T142816Z
UID:37520-1792231200-1792256400@www.mairie-evin-malmaison.fr
SUMMARY:Salon de la gastronomie et du bien-être
DESCRIPTION:
URL:https://www.mairie-evin-malmaison.fr/event/salon-de-la-gastronomie-et-du-bien-etre/
LOCATION:Salle Dutilleul\, EVIN MALMAISON\, France
CATEGORIES:association
END:VEVENT
BEGIN:VEVENT
DTSTART;TZID=Europe/Paris:20261017T190000
DTEND;TZID=Europe/Paris:20261017T233000
DTSTAMP:20260421T131127
CREATED:20260129T142946Z
LAST-MODIFIED:20260129T142946Z
UID:37521-1792263600-1792279800@www.mairie-evin-malmaison.fr
SUMMARY:Soirée 90-2000
DESCRIPTION:
URL:https://www.mairie-evin-malmaison.fr/event/soiree-90-2000/
LOCATION:Salle Dutilleul\, EVIN MALMAISON\, France
CATEGORIES:association
END:VEVENT
BEGIN:VEVENT
DTSTART;TZID=Europe/Paris:20261018T100000
DTEND;TZID=Europe/Paris:20261018T180000
DTSTAMP:20260421T131127
CREATED:20260129T143128Z
LAST-MODIFIED:20260129T143128Z
UID:37522-1792317600-1792346400@www.mairie-evin-malmaison.fr
SUMMARY:Bourse aux jouets et puériculture
DESCRIPTION:
URL:https://www.mairie-evin-malmaison.fr/event/bourse-aux-jouets-et-puericulture/
LOCATION:Salle Dutilleul\, EVIN MALMAISON\, France
CATEGORIES:association
END:VEVENT
BEGIN:VEVENT
DTSTART;TZID=Europe/Paris:20261031T190000
DTEND;TZID=Europe/Paris:20261031T233000
DTSTAMP:20260421T131127
CREATED:20260131T215257Z
LAST-MODIFIED:20260131T215257Z
UID:37528-1793473200-1793489400@www.mairie-evin-malmaison.fr
SUMMARY:Soirée Halloween
DESCRIPTION:
URL:https://www.mairie-evin-malmaison.fr/event/soiree-halloween/
LOCATION:Salle Dutilleul\, EVIN MALMAISON\, France
CATEGORIES:association
END:VEVENT
BEGIN:VEVENT
DTSTART;VALUE=DATE:20261108
DTEND;VALUE=DATE:20261109
DTSTAMP:20260421T131127
CREATED:20260131T215400Z
LAST-MODIFIED:20260131T215400Z
UID:37529-1794096000-1794182399@www.mairie-evin-malmaison.fr
SUMMARY:Bourse aux jouets
DESCRIPTION:
URL:https://www.mairie-evin-malmaison.fr/event/bourse-aux-jouets/
LOCATION:Salle Dutilleul\, EVIN MALMAISON\, France
CATEGORIES:association
END:VEVENT
BEGIN:VEVENT
DTSTART;TZID=Europe/Paris:20261111T103000
DTEND;TZID=Europe/Paris:20261111T120000
DTSTAMP:20260421T131127
CREATED:20260131T215459Z
LAST-MODIFIED:20260131T215459Z
UID:37530-1794393000-1794398400@www.mairie-evin-malmaison.fr
SUMMARY:Cérémonie officielle
DESCRIPTION:
URL:https://www.mairie-evin-malmaison.fr/event/ceremonie-officielle-13/
LOCATION:Salle Dutilleul\, EVIN MALMAISON\, France
CATEGORIES:Municipalité
END:VEVENT
BEGIN:VEVENT
DTSTART;TZID=Europe/Paris:20261111T120000
DTEND;TZID=Europe/Paris:20261111T190000
DTSTAMP:20260421T131127
CREATED:20260131T215644Z
LAST-MODIFIED:20260131T215644Z
UID:37531-1794398400-1794423600@www.mairie-evin-malmaison.fr
SUMMARY:Repas dansant
DESCRIPTION:
URL:https://www.mairie-evin-malmaison.fr/event/repas-dansant-3/
LOCATION:Salle Dutilleul\, EVIN MALMAISON\, France
CATEGORIES:association
END:VEVENT
BEGIN:VEVENT
DTSTART;TZID=Europe/Paris:20261121T190000
DTEND;TZID=Europe/Paris:20261121T233000
DTSTAMP:20260421T131127
CREATED:20260131T215747Z
LAST-MODIFIED:20260131T215747Z
UID:37532-1795287600-1795303800@www.mairie-evin-malmaison.fr
SUMMARY:Repas de la Sainte Cécile
DESCRIPTION:
URL:https://www.mairie-evin-malmaison.fr/event/repas-de-la-sainte-cecile-2/
LOCATION:Salle Dutilleul\, EVIN MALMAISON\, France
CATEGORIES:association
END:VEVENT
BEGIN:VEVENT
DTSTART;TZID=Europe/Paris:20261122T120000
DTEND;TZID=Europe/Paris:20261122T190000
DTSTAMP:20260421T131127
CREATED:20260131T215854Z
LAST-MODIFIED:20260131T215854Z
UID:37533-1795348800-1795374000@www.mairie-evin-malmaison.fr
SUMMARY:Repas de fin d'année du Club de l'Amitié
DESCRIPTION:
URL:https://www.mairie-evin-malmaison.fr/event/repas-de-fin-dannee-2/
LOCATION:Foyer Dugardin
CATEGORIES:association
END:VEVENT
BEGIN:VEVENT
DTSTART;VALUE=DATE:20261205
DTEND;VALUE=DATE:20261206
DTSTAMP:20260421T131127
CREATED:20260131T220001Z
LAST-MODIFIED:20260131T220001Z
UID:37534-1796428800-1796515199@www.mairie-evin-malmaison.fr
SUMMARY:Remise du colis de Noël aux aînés
DESCRIPTION:
URL:https://www.mairie-evin-malmaison.fr/event/remise-du-colis-de-noel-aux-aines-2/
LOCATION:Salle Dutilleul\, EVIN MALMAISON\, France
CATEGORIES:association
END:VEVENT
BEGIN:VEVENT
DTSTART;VALUE=DATE:20261205
DTEND;VALUE=DATE:20261206
DTSTAMP:20260421T131127
CREATED:20260131T220135Z
LAST-MODIFIED:20260131T220135Z
UID:37535-1796428800-1796515199@www.mairie-evin-malmaison.fr
SUMMARY:Cérémonie officielle
DESCRIPTION:
URL:https://www.mairie-evin-malmaison.fr/event/ceremonie-officielle-14/
CATEGORIES:Municipalité
END:VEVENT
BEGIN:VEVENT
DTSTART;VALUE=DATE:20261206
DTEND;VALUE=DATE:20261207
DTSTAMP:20260421T131127
CREATED:20260131T220224Z
LAST-MODIFIED:20260131T220224Z
UID:37536-1796515200-1796601599@www.mairie-evin-malmaison.fr
SUMMARY:Téléthon
DESCRIPTION:
URL:https://www.mairie-evin-malmaison.fr/event/telethon-2/
LOCATION:Salle Dutilleul\, EVIN MALMAISON\, France
CATEGORIES:association
END:VEVENT
BEGIN:VEVENT
DTSTART;VALUE=DATE:20261211
DTEND;VALUE=DATE:20261213
DTSTAMP:20260421T131127
CREATED:20260131T220331Z
LAST-MODIFIED:20260131T220331Z
UID:37543-1796947200-1797119999@www.mairie-evin-malmaison.fr
SUMMARY:Village de Noël
DESCRIPTION:
URL:https://www.mairie-evin-malmaison.fr/event/village-de-noel-2/
LOCATION:Salle Dutilleul\, EVIN MALMAISON\, France
CATEGORIES:Municipalité
END:VEVENT
END:VCALENDAR