BEGIN:VCALENDAR
VERSION:2.0
PRODID:-//Evin-Malmaison - ECPv6.15.20//NONSGML v1.0//EN
CALSCALE:GREGORIAN
METHOD:PUBLISH
X-WR-CALNAME:Evin-Malmaison
X-ORIGINAL-URL:https://www.mairie-evin-malmaison.fr
X-WR-CALDESC:Évènements pour Evin-Malmaison
REFRESH-INTERVAL;VALUE=DURATION:PT1H
X-Robots-Tag:noindex
X-PUBLISHED-TTL:PT1H
BEGIN:VTIMEZONE
TZID:Europe/Paris
BEGIN:DAYLIGHT
TZOFFSETFROM:+0100
TZOFFSETTO:+0200
TZNAME:CEST
DTSTART:20250330T010000
END:DAYLIGHT
BEGIN:STANDARD
TZOFFSETFROM:+0200
TZOFFSETTO:+0100
TZNAME:CET
DTSTART:20251026T010000
END:STANDARD
BEGIN:DAYLIGHT
TZOFFSETFROM:+0100
TZOFFSETTO:+0200
TZNAME:CEST
DTSTART:20260329T010000
END:DAYLIGHT
BEGIN:STANDARD
TZOFFSETFROM:+0200
TZOFFSETTO:+0100
TZNAME:CET
DTSTART:20261025T010000
END:STANDARD
BEGIN:DAYLIGHT
TZOFFSETFROM:+0100
TZOFFSETTO:+0200
TZNAME:CEST
DTSTART:20270328T010000
END:DAYLIGHT
BEGIN:STANDARD
TZOFFSETFROM:+0200
TZOFFSETTO:+0100
TZNAME:CET
DTSTART:20271031T010000
END:STANDARD
END:VTIMEZONE
BEGIN:VEVENT
DTSTART;VALUE=DATE:20261206
DTEND;VALUE=DATE:20261207
DTSTAMP:20260421T223830
CREATED:20260131T220224Z
LAST-MODIFIED:20260131T220224Z
UID:37536-1796515200-1796601599@www.mairie-evin-malmaison.fr
SUMMARY:Téléthon
DESCRIPTION:
URL:https://www.mairie-evin-malmaison.fr/event/telethon-2/
LOCATION:Salle Dutilleul\, EVIN MALMAISON\, France
CATEGORIES:association
END:VEVENT
BEGIN:VEVENT
DTSTART;VALUE=DATE:20261219
DTEND;VALUE=DATE:20261221
DTSTAMP:20260421T223830
CREATED:20260131T220411Z
LAST-MODIFIED:20260131T220411Z
UID:37544-1797638400-1797811199@www.mairie-evin-malmaison.fr
SUMMARY:Marché de Noël
DESCRIPTION:
URL:https://www.mairie-evin-malmaison.fr/event/marche-de-noel/
LOCATION:Salle Dutilleul\, EVIN MALMAISON\, France
CATEGORIES:association
END:VEVENT
BEGIN:VEVENT
DTSTART;TZID=Europe/Paris:20261231T190000
DTEND;TZID=Europe/Paris:20261231T233000
DTSTAMP:20260421T223830
CREATED:20260131T220507Z
LAST-MODIFIED:20260131T220507Z
UID:37545-1798743600-1798759800@www.mairie-evin-malmaison.fr
SUMMARY:Réveillon de la Saint Sylvestre
DESCRIPTION:
URL:https://www.mairie-evin-malmaison.fr/event/reveillon-de-la-saint-sylvestre/
LOCATION:Salle Dutilleul\, EVIN MALMAISON\, France
CATEGORIES:association
END:VEVENT
END:VCALENDAR