BEGIN:VCALENDAR
VERSION:2.0
PRODID:-//Evin-Malmaison - ECPv6.15.20//NONSGML v1.0//EN
CALSCALE:GREGORIAN
METHOD:PUBLISH
X-WR-CALNAME:Evin-Malmaison
X-ORIGINAL-URL:https://www.mairie-evin-malmaison.fr
X-WR-CALDESC:Évènements pour Evin-Malmaison
REFRESH-INTERVAL;VALUE=DURATION:PT1H
X-Robots-Tag:noindex
X-PUBLISHED-TTL:PT1H
BEGIN:VTIMEZONE
TZID:Europe/Paris
BEGIN:DAYLIGHT
TZOFFSETFROM:+0100
TZOFFSETTO:+0200
TZNAME:CEST
DTSTART:20250330T010000
END:DAYLIGHT
BEGIN:STANDARD
TZOFFSETFROM:+0200
TZOFFSETTO:+0100
TZNAME:CET
DTSTART:20251026T010000
END:STANDARD
BEGIN:DAYLIGHT
TZOFFSETFROM:+0100
TZOFFSETTO:+0200
TZNAME:CEST
DTSTART:20260329T010000
END:DAYLIGHT
BEGIN:STANDARD
TZOFFSETFROM:+0200
TZOFFSETTO:+0100
TZNAME:CET
DTSTART:20261025T010000
END:STANDARD
BEGIN:DAYLIGHT
TZOFFSETFROM:+0100
TZOFFSETTO:+0200
TZNAME:CEST
DTSTART:20270328T010000
END:DAYLIGHT
BEGIN:STANDARD
TZOFFSETFROM:+0200
TZOFFSETTO:+0100
TZNAME:CET
DTSTART:20271031T010000
END:STANDARD
END:VTIMEZONE
BEGIN:VEVENT
DTSTART;TZID=Europe/Paris:20260411T090000
DTEND;TZID=Europe/Paris:20260411T160000
DTSTAMP:20260421T185912
CREATED:20260127T122426Z
LAST-MODIFIED:20260127T122426Z
UID:37500-1775898000-1775923200@www.mairie-evin-malmaison.fr
SUMMARY:Bourse aux jouets - Vide-dressing & puériculture
DESCRIPTION:
URL:https://www.mairie-evin-malmaison.fr/event/animation-de-paques-2/
LOCATION:Salle Dutilleul\, EVIN MALMAISON\, France
CATEGORIES:association
ATTACH;FMTTYPE=image/jpeg:https://www.mairie-evin-malmaison.fr/wp-content/uploads/2026/01/634612151_2966213973564432_8457740421055521441_n.jpg
END:VEVENT
BEGIN:VEVENT
DTSTART;TZID=Europe/Paris:20260411T094500
DTEND;TZID=Europe/Paris:20260411T170000
DTSTAMP:20260421T185912
CREATED:20260102T150038Z
LAST-MODIFIED:20260102T150038Z
UID:37485-1775900700-1775926800@www.mairie-evin-malmaison.fr
SUMMARY:Plateau du printemps U8-U9
DESCRIPTION:
URL:https://www.mairie-evin-malmaison.fr/event/plateau-du-printemps-u8-u9/
LOCATION:Stade Municipal
CATEGORIES:association
ATTACH;FMTTYPE=image/jpeg:https://www.mairie-evin-malmaison.fr/wp-content/uploads/2026/01/FB_IMG_1767353895666.jpg
END:VEVENT
BEGIN:VEVENT
DTSTART;TZID=Europe/Paris:20260411T140000
DTEND;TZID=Europe/Paris:20260411T170000
DTSTAMP:20260421T185912
CREATED:20260215T155208Z
LAST-MODIFIED:20260215T155208Z
UID:37550-1775916000-1775926800@www.mairie-evin-malmaison.fr
SUMMARY:Repair Café #10
DESCRIPTION:
URL:https://www.mairie-evin-malmaison.fr/event/repair-cafe-10/
LOCATION:salle polyvalente Daniel Goczkowski
CATEGORIES:association
ATTACH;FMTTYPE=image/jpeg:https://www.mairie-evin-malmaison.fr/wp-content/uploads/2026/02/WhatsApp-Image-2026-02-22-at-17.14.55.jpeg
END:VEVENT
END:VCALENDAR