BEGIN:VCALENDAR
VERSION:2.0
PRODID:-//Evin-Malmaison - ECPv6.15.20//NONSGML v1.0//EN
CALSCALE:GREGORIAN
METHOD:PUBLISH
X-WR-CALNAME:Evin-Malmaison
X-ORIGINAL-URL:https://www.mairie-evin-malmaison.fr
X-WR-CALDESC:Évènements pour Evin-Malmaison
REFRESH-INTERVAL;VALUE=DURATION:PT1H
X-Robots-Tag:noindex
X-PUBLISHED-TTL:PT1H
BEGIN:VTIMEZONE
TZID:Europe/Paris
BEGIN:DAYLIGHT
TZOFFSETFROM:+0100
TZOFFSETTO:+0200
TZNAME:CEST
DTSTART:20250330T010000
END:DAYLIGHT
BEGIN:STANDARD
TZOFFSETFROM:+0200
TZOFFSETTO:+0100
TZNAME:CET
DTSTART:20251026T010000
END:STANDARD
BEGIN:DAYLIGHT
TZOFFSETFROM:+0100
TZOFFSETTO:+0200
TZNAME:CEST
DTSTART:20260329T010000
END:DAYLIGHT
BEGIN:STANDARD
TZOFFSETFROM:+0200
TZOFFSETTO:+0100
TZNAME:CET
DTSTART:20261025T010000
END:STANDARD
BEGIN:DAYLIGHT
TZOFFSETFROM:+0100
TZOFFSETTO:+0200
TZNAME:CEST
DTSTART:20270328T010000
END:DAYLIGHT
BEGIN:STANDARD
TZOFFSETFROM:+0200
TZOFFSETTO:+0100
TZNAME:CET
DTSTART:20271031T010000
END:STANDARD
END:VTIMEZONE
BEGIN:VTIMEZONE
TZID:Europe/Zurich
BEGIN:DAYLIGHT
TZOFFSETFROM:+0100
TZOFFSETTO:+0200
TZNAME:CEST
DTSTART:20250330T010000
END:DAYLIGHT
BEGIN:STANDARD
TZOFFSETFROM:+0200
TZOFFSETTO:+0100
TZNAME:CET
DTSTART:20251026T010000
END:STANDARD
BEGIN:DAYLIGHT
TZOFFSETFROM:+0100
TZOFFSETTO:+0200
TZNAME:CEST
DTSTART:20260329T010000
END:DAYLIGHT
BEGIN:STANDARD
TZOFFSETFROM:+0200
TZOFFSETTO:+0100
TZNAME:CET
DTSTART:20261025T010000
END:STANDARD
BEGIN:DAYLIGHT
TZOFFSETFROM:+0100
TZOFFSETTO:+0200
TZNAME:CEST
DTSTART:20270328T010000
END:DAYLIGHT
BEGIN:STANDARD
TZOFFSETFROM:+0200
TZOFFSETTO:+0100
TZNAME:CET
DTSTART:20271031T010000
END:STANDARD
END:VTIMEZONE
BEGIN:VEVENT
DTSTART;TZID=Europe/Paris:20260508T090000
DTEND;TZID=Europe/Paris:20260508T170000
DTSTAMP:20260421T235821
CREATED:20260330T120357Z
LAST-MODIFIED:20260330T120357Z
UID:37556-1778230800-1778259600@www.mairie-evin-malmaison.fr
SUMMARY:Marché aux puces
DESCRIPTION:
URL:https://www.mairie-evin-malmaison.fr/event/marche-aux-puces-5/
CATEGORIES:association
ATTACH;FMTTYPE=image/jpeg:https://www.mairie-evin-malmaison.fr/wp-content/uploads/2026/03/656859296_1306104468046003_4282351639366821262_n.jpg
END:VEVENT
BEGIN:VEVENT
DTSTART;TZID=Europe/Paris:20260512T183000
DTEND;TZID=Europe/Paris:20260512T200000
DTSTAMP:20260421T235821
CREATED:20260330T115144Z
LAST-MODIFIED:20260415T113836Z
UID:37555-1778610600-1778616000@www.mairie-evin-malmaison.fr
SUMMARY:Réunion publique sur le compostage avec le SYMEVAD
DESCRIPTION:
URL:https://www.mairie-evin-malmaison.fr/event/reunion-publique-sur-le-compostage-avec-le-symevad-2/
LOCATION:Symevad\, 60 rue Mirabeau Prolongée\, Évin-Malmaison\, 62141\, France
CATEGORIES:association
ATTACH;FMTTYPE=image/jpeg:https://www.mairie-evin-malmaison.fr/wp-content/uploads/2026/03/dc213f44-fdc1-4af6-b1a0-c12a7ab9195d-scaled.jpg
ORGANIZER;CN="Symevad":MAILTO:communication@symevad.org
END:VEVENT
BEGIN:VEVENT
DTSTART;TZID=Europe/Zurich:20260517T140000
DTEND;TZID=Europe/Zurich:20260517T180000
DTSTAMP:20260421T235821
CREATED:20260417T074637Z
LAST-MODIFIED:20260417T074637Z
UID:37691-1779026400-1779040800@www.mairie-evin-malmaison.fr
SUMMARY:Tournoi de pétanque (triplette)
DESCRIPTION:
URL:https://www.mairie-evin-malmaison.fr/event/tournoi-de-petanque-triplette/
LOCATION:Stade Municipal
CATEGORIES:association
ATTACH;FMTTYPE=image/jpeg:https://www.mairie-evin-malmaison.fr/wp-content/uploads/2026/04/672681746_2453310015141967_3268913753616779225_n.jpg
END:VEVENT
BEGIN:VEVENT
DTSTART;TZID=Europe/Zurich:20260523T140000
DTEND;TZID=Europe/Zurich:20260523T170000
DTSTAMP:20260421T235821
CREATED:20260413T082903Z
LAST-MODIFIED:20260413T082903Z
UID:37684-1779544800-1779555600@www.mairie-evin-malmaison.fr
SUMMARY:Repair Café #11
DESCRIPTION:
URL:https://www.mairie-evin-malmaison.fr/event/repair-cafe-11/
LOCATION:salle polyvalente Daniel Goczkowski
CATEGORIES:association
ATTACH;FMTTYPE=image/jpeg:https://www.mairie-evin-malmaison.fr/wp-content/uploads/2026/04/WhatsApp-Image-2026-04-11-at-18.25.33.jpeg
END:VEVENT
BEGIN:VEVENT
DTSTART;TZID=Europe/Paris:20260530T100000
DTEND;TZID=Europe/Paris:20260530T170000
DTSTAMP:20260421T235821
CREATED:20260102T145758Z
LAST-MODIFIED:20260102T145758Z
UID:37484-1780135200-1780160400@www.mairie-evin-malmaison.fr
SUMMARY:Tournoi de fin de saison
DESCRIPTION:
URL:https://www.mairie-evin-malmaison.fr/event/tournoi-de-fin-de-saison/
LOCATION:Stade Municipal
CATEGORIES:association
ATTACH;FMTTYPE=image/jpeg:https://www.mairie-evin-malmaison.fr/wp-content/uploads/2026/01/FB_IMG_1767353907571.jpg
END:VEVENT
END:VCALENDAR