BEGIN:VCALENDAR
VERSION:2.0
PRODID:-//Evin-Malmaison - ECPv6.15.20//NONSGML v1.0//EN
CALSCALE:GREGORIAN
METHOD:PUBLISH
X-WR-CALNAME:Evin-Malmaison
X-ORIGINAL-URL:https://www.mairie-evin-malmaison.fr
X-WR-CALDESC:Évènements pour Evin-Malmaison
REFRESH-INTERVAL;VALUE=DURATION:PT1H
X-Robots-Tag:noindex
X-PUBLISHED-TTL:PT1H
BEGIN:VTIMEZONE
TZID:Europe/Paris
BEGIN:DAYLIGHT
TZOFFSETFROM:+0100
TZOFFSETTO:+0200
TZNAME:CEST
DTSTART:20240331T010000
END:DAYLIGHT
BEGIN:STANDARD
TZOFFSETFROM:+0200
TZOFFSETTO:+0100
TZNAME:CET
DTSTART:20241027T010000
END:STANDARD
BEGIN:DAYLIGHT
TZOFFSETFROM:+0100
TZOFFSETTO:+0200
TZNAME:CEST
DTSTART:20250330T010000
END:DAYLIGHT
BEGIN:STANDARD
TZOFFSETFROM:+0200
TZOFFSETTO:+0100
TZNAME:CET
DTSTART:20251026T010000
END:STANDARD
BEGIN:DAYLIGHT
TZOFFSETFROM:+0100
TZOFFSETTO:+0200
TZNAME:CEST
DTSTART:20260329T010000
END:DAYLIGHT
BEGIN:STANDARD
TZOFFSETFROM:+0200
TZOFFSETTO:+0100
TZNAME:CET
DTSTART:20261025T010000
END:STANDARD
END:VTIMEZONE
BEGIN:VEVENT
DTSTART;TZID=Europe/Paris:20250608T090000
DTEND;TZID=Europe/Paris:20250608T160000
DTSTAMP:20260423T111935
CREATED:20250406T120039Z
LAST-MODIFIED:20250406T120039Z
UID:37603-1749373200-1749398400@www.mairie-evin-malmaison.fr
SUMMARY:Marché aux puces
DESCRIPTION:
URL:https://www.mairie-evin-malmaison.fr/event/marche-aux-puces-2/
LOCATION:Ecole Méresse
CATEGORIES:association
ATTACH;FMTTYPE=image/jpeg:https://www.mairie-evin-malmaison.fr/wp-content/uploads/2025/04/IMG-20250406-WA0000-e1743940801729.jpg
END:VEVENT
BEGIN:VEVENT
DTSTART;VALUE=DATE:20250614
DTEND;VALUE=DATE:20250615
DTSTAMP:20260423T111935
CREATED:20250316T210712Z
LAST-MODIFIED:20250316T210712Z
UID:37570-1749859200-1749945599@www.mairie-evin-malmaison.fr
SUMMARY:Exposition sur la 2ème Guerre Mondiale
DESCRIPTION:
URL:https://www.mairie-evin-malmaison.fr/event/exposition-sur-la-2eme-guerre-mondiale/
LOCATION:Foyer Dugardin
CATEGORIES:association
END:VEVENT
BEGIN:VEVENT
DTSTART;VALUE=DATE:20250621
DTEND;VALUE=DATE:20250622
DTSTAMP:20260423T111935
CREATED:20250316T205144Z
LAST-MODIFIED:20250316T205144Z
UID:37562-1750464000-1750550399@www.mairie-evin-malmaison.fr
SUMMARY:Tournois vétérans
DESCRIPTION:
URL:https://www.mairie-evin-malmaison.fr/event/248/
CATEGORIES:association
END:VEVENT
BEGIN:VEVENT
DTSTART;VALUE=DATE:20250621
DTEND;VALUE=DATE:20250622
DTSTAMP:20260423T111935
CREATED:20250316T210856Z
LAST-MODIFIED:20250316T210856Z
UID:37572-1750464000-1750550399@www.mairie-evin-malmaison.fr
SUMMARY:Fête de la musique
DESCRIPTION:
URL:https://www.mairie-evin-malmaison.fr/event/fete-de-la-musique/
LOCATION:Salle Dutilleul\, EVIN MALMAISON\, France
CATEGORIES:association
END:VEVENT
BEGIN:VEVENT
DTSTART;VALUE=DATE:20250621
DTEND;VALUE=DATE:20250622
DTSTAMP:20260423T111935
CREATED:20250418T082542Z
LAST-MODIFIED:20250418T082542Z
UID:37606-1750464000-1750550399@www.mairie-evin-malmaison.fr
SUMMARY:Kermesse de l’école Dolto
DESCRIPTION:
URL:https://www.mairie-evin-malmaison.fr/event/kermesse-de-lecole-dolto/
LOCATION:Ecole Dolto
CATEGORIES:association
ATTACH;FMTTYPE=image/jpeg:https://www.mairie-evin-malmaison.fr/wp-content/uploads/2025/04/AISelect_20250503_073636_Facebook-e1746251132414.jpg
END:VEVENT
BEGIN:VEVENT
DTSTART;VALUE=DATE:20250628
DTEND;VALUE=DATE:20250629
DTSTAMP:20260423T111935
CREATED:20250316T205810Z
LAST-MODIFIED:20250316T205810Z
UID:37563-1751068800-1751155199@www.mairie-evin-malmaison.fr
SUMMARY:Kermesse de l'école Méresse
DESCRIPTION:
URL:https://www.mairie-evin-malmaison.fr/event/kermesse-de-lecole-meresse/
CATEGORIES:association
END:VEVENT
END:VCALENDAR