BEGIN:VCALENDAR
VERSION:2.0
PRODID:-//Evin-Malmaison - ECPv6.15.20//NONSGML v1.0//EN
CALSCALE:GREGORIAN
METHOD:PUBLISH
X-ORIGINAL-URL:https://www.mairie-evin-malmaison.fr
X-WR-CALDESC:Évènements pour Evin-Malmaison
REFRESH-INTERVAL;VALUE=DURATION:PT1H
X-Robots-Tag:noindex
X-PUBLISHED-TTL:PT1H
BEGIN:VTIMEZONE
TZID:Europe/Paris
BEGIN:DAYLIGHT
TZOFFSETFROM:+0100
TZOFFSETTO:+0200
TZNAME:CEST
DTSTART:20240331T010000
END:DAYLIGHT
BEGIN:STANDARD
TZOFFSETFROM:+0200
TZOFFSETTO:+0100
TZNAME:CET
DTSTART:20241027T010000
END:STANDARD
BEGIN:DAYLIGHT
TZOFFSETFROM:+0100
TZOFFSETTO:+0200
TZNAME:CEST
DTSTART:20250330T010000
END:DAYLIGHT
BEGIN:STANDARD
TZOFFSETFROM:+0200
TZOFFSETTO:+0100
TZNAME:CET
DTSTART:20251026T010000
END:STANDARD
BEGIN:DAYLIGHT
TZOFFSETFROM:+0100
TZOFFSETTO:+0200
TZNAME:CEST
DTSTART:20260329T010000
END:DAYLIGHT
BEGIN:STANDARD
TZOFFSETFROM:+0200
TZOFFSETTO:+0100
TZNAME:CET
DTSTART:20261025T010000
END:STANDARD
END:VTIMEZONE
BEGIN:VEVENT
DTSTART;TZID=Europe/Paris:20250501T100000
DTEND;TZID=Europe/Paris:20250501T173000
DTSTAMP:20260423T061635
CREATED:20250316T204930Z
LAST-MODIFIED:20250316T204930Z
UID:37560-1746093600-1746120600@www.mairie-evin-malmaison.fr
SUMMARY:Foot - Tournois u12-u13
DESCRIPTION:
URL:https://www.mairie-evin-malmaison.fr/event/foot-tournois-u12-u13/
LOCATION:stade de foot
CATEGORIES:association
ATTACH;FMTTYPE=image/jpeg:https://www.mairie-evin-malmaison.fr/wp-content/uploads/2025/03/WhatsApp-Image-2025-04-07-at-16.26.48-e1744037387181.jpeg
END:VEVENT
BEGIN:VEVENT
DTSTART;TZID=Europe/Paris:20250508T073000
DTEND;TZID=Europe/Paris:20250508T180000
DTSTAMP:20260423T061635
CREATED:20250317T180008Z
LAST-MODIFIED:20250317T180008Z
UID:37597-1746689400-1746727200@www.mairie-evin-malmaison.fr
SUMMARY:Marché aux puces
DESCRIPTION:
URL:https://www.mairie-evin-malmaison.fr/event/marche-au-puce/
LOCATION:les élans
CATEGORIES:association
ATTACH;FMTTYPE=image/jpeg:https://www.mairie-evin-malmaison.fr/wp-content/uploads/2025/03/FB_IMG_1742234059153.jpg
END:VEVENT
BEGIN:VEVENT
DTSTART;VALUE=DATE:20250510
DTEND;VALUE=DATE:20250511
DTSTAMP:20260423T061635
CREATED:20250316T210356Z
LAST-MODIFIED:20250316T210356Z
UID:37567-1746835200-1746921599@www.mairie-evin-malmaison.fr
SUMMARY:soirée années 80's
DESCRIPTION:
URL:https://www.mairie-evin-malmaison.fr/event/soiree-karaoke/
LOCATION:Salle Dutilleul\, EVIN MALMAISON\, France
CATEGORIES:association
ATTACH;FMTTYPE=image/jpeg:https://www.mairie-evin-malmaison.fr/wp-content/uploads/2025/03/FB_IMG_1742925281729-e1742925577514.jpg
END:VEVENT
BEGIN:VEVENT
DTSTART;VALUE=DATE:20250517
DTEND;VALUE=DATE:20250518
DTSTAMP:20260423T061635
CREATED:20250410T151607Z
LAST-MODIFIED:20250410T151607Z
UID:37605-1747440000-1747526399@www.mairie-evin-malmaison.fr
SUMMARY:Tournois U11 mixte / U13 filles / seniors H
DESCRIPTION:
URL:https://www.mairie-evin-malmaison.fr/event/tournois-u11-mixte-u13-filles-seniors-h/
LOCATION:Salle Budillon
CATEGORIES:association
ATTACH;FMTTYPE=image/jpeg:https://www.mairie-evin-malmaison.fr/wp-content/uploads/2025/04/FB_IMG_1744297781816-e1744297909165.jpg
END:VEVENT
BEGIN:VEVENT
DTSTART;TZID=Europe/Paris:20250518T143000
DTEND;TZID=Europe/Paris:20250518T235900
DTSTAMP:20260423T061635
CREATED:20250316T210504Z
LAST-MODIFIED:20250316T210504Z
UID:37568-1747578600-1747612740@www.mairie-evin-malmaison.fr
SUMMARY:Thé dansant polonais
DESCRIPTION:
URL:https://www.mairie-evin-malmaison.fr/event/the-dansant-polonais/
LOCATION:Salle Dutilleul\, EVIN MALMAISON\, France
CATEGORIES:association
ATTACH;FMTTYPE=image/jpeg:https://www.mairie-evin-malmaison.fr/wp-content/uploads/2025/03/FB_IMG_1744108409454-e1744108556111.jpg
END:VEVENT
BEGIN:VEVENT
DTSTART;TZID=Europe/Paris:20250525T120000
DTEND;TZID=Europe/Paris:20250525T180000
DTSTAMP:20260423T061635
CREATED:20250316T210605Z
LAST-MODIFIED:20250316T210605Z
UID:37569-1748174400-1748196000@www.mairie-evin-malmaison.fr
SUMMARY:Loto
DESCRIPTION:
URL:https://www.mairie-evin-malmaison.fr/event/loto-2/
LOCATION:Salle Dutilleul\, EVIN MALMAISON\, France
CATEGORIES:association
ATTACH;FMTTYPE=image/jpeg:https://www.mairie-evin-malmaison.fr/wp-content/uploads/2025/03/loto-don-du-sang-25052025-e1744893117261.jpg
END:VEVENT
BEGIN:VEVENT
DTSTART;TZID=Europe/Paris:20250529T100000
DTEND;TZID=Europe/Paris:20250529T173000
DTSTAMP:20260423T061635
CREATED:20250316T205032Z
LAST-MODIFIED:20250316T205032Z
UID:37561-1748512800-1748539800@www.mairie-evin-malmaison.fr
SUMMARY:Foot - Tournois u10-u11
DESCRIPTION:
URL:https://www.mairie-evin-malmaison.fr/event/foot-tournois-u10-u11/
LOCATION:stade de foot
CATEGORIES:association
ATTACH;FMTTYPE=image/jpeg:https://www.mairie-evin-malmaison.fr/wp-content/uploads/2025/03/WhatsApp-Image-2025-04-07-at-16.26.47-e1744037403460.jpeg
END:VEVENT
END:VCALENDAR