BEGIN:VCALENDAR
VERSION:2.0
PRODID:-//Evin-Malmaison - ECPv6.15.20//NONSGML v1.0//EN
CALSCALE:GREGORIAN
METHOD:PUBLISH
X-ORIGINAL-URL:https://www.mairie-evin-malmaison.fr
X-WR-CALDESC:Évènements pour Evin-Malmaison
REFRESH-INTERVAL;VALUE=DURATION:PT1H
X-Robots-Tag:noindex
X-PUBLISHED-TTL:PT1H
BEGIN:VTIMEZONE
TZID:Europe/Paris
BEGIN:DAYLIGHT
TZOFFSETFROM:+0100
TZOFFSETTO:+0200
TZNAME:CEST
DTSTART:20240331T010000
END:DAYLIGHT
BEGIN:STANDARD
TZOFFSETFROM:+0200
TZOFFSETTO:+0100
TZNAME:CET
DTSTART:20241027T010000
END:STANDARD
BEGIN:DAYLIGHT
TZOFFSETFROM:+0100
TZOFFSETTO:+0200
TZNAME:CEST
DTSTART:20250330T010000
END:DAYLIGHT
BEGIN:STANDARD
TZOFFSETFROM:+0200
TZOFFSETTO:+0100
TZNAME:CET
DTSTART:20251026T010000
END:STANDARD
BEGIN:DAYLIGHT
TZOFFSETFROM:+0100
TZOFFSETTO:+0200
TZNAME:CEST
DTSTART:20260329T010000
END:DAYLIGHT
BEGIN:STANDARD
TZOFFSETFROM:+0200
TZOFFSETTO:+0100
TZNAME:CET
DTSTART:20261025T010000
END:STANDARD
END:VTIMEZONE
BEGIN:VEVENT
DTSTART;VALUE=DATE:20250517
DTEND;VALUE=DATE:20250518
DTSTAMP:20260423T064935
CREATED:20250410T151607Z
LAST-MODIFIED:20250410T151607Z
UID:37605-1747440000-1747526399@www.mairie-evin-malmaison.fr
SUMMARY:Tournois U11 mixte / U13 filles / seniors H
DESCRIPTION:
URL:https://www.mairie-evin-malmaison.fr/event/tournois-u11-mixte-u13-filles-seniors-h/
LOCATION:Salle Budillon
CATEGORIES:association
ATTACH;FMTTYPE=image/jpeg:https://www.mairie-evin-malmaison.fr/wp-content/uploads/2025/04/FB_IMG_1744297781816-e1744297909165.jpg
END:VEVENT
END:VCALENDAR