BEGIN:VCALENDAR
VERSION:2.0
PRODID:-//Evin-Malmaison - ECPv6.15.20//NONSGML v1.0//EN
CALSCALE:GREGORIAN
METHOD:PUBLISH
X-WR-CALNAME:Evin-Malmaison
X-ORIGINAL-URL:https://www.mairie-evin-malmaison.fr
X-WR-CALDESC:Évènements pour Evin-Malmaison
REFRESH-INTERVAL;VALUE=DURATION:PT1H
X-Robots-Tag:noindex
X-PUBLISHED-TTL:PT1H
BEGIN:VTIMEZONE
TZID:Europe/Paris
BEGIN:DAYLIGHT
TZOFFSETFROM:+0100
TZOFFSETTO:+0200
TZNAME:CEST
DTSTART:20240331T010000
END:DAYLIGHT
BEGIN:STANDARD
TZOFFSETFROM:+0200
TZOFFSETTO:+0100
TZNAME:CET
DTSTART:20241027T010000
END:STANDARD
BEGIN:DAYLIGHT
TZOFFSETFROM:+0100
TZOFFSETTO:+0200
TZNAME:CEST
DTSTART:20250330T010000
END:DAYLIGHT
BEGIN:STANDARD
TZOFFSETFROM:+0200
TZOFFSETTO:+0100
TZNAME:CET
DTSTART:20251026T010000
END:STANDARD
BEGIN:DAYLIGHT
TZOFFSETFROM:+0100
TZOFFSETTO:+0200
TZNAME:CEST
DTSTART:20260329T010000
END:DAYLIGHT
BEGIN:STANDARD
TZOFFSETFROM:+0200
TZOFFSETTO:+0100
TZNAME:CET
DTSTART:20261025T010000
END:STANDARD
END:VTIMEZONE
BEGIN:VEVENT
DTSTART;VALUE=DATE:20250501
DTEND;VALUE=DATE:20250502
DTSTAMP:20260423T064740
CREATED:20250316T210150Z
LAST-MODIFIED:20250316T210150Z
UID:37565-1746057600-1746143999@www.mairie-evin-malmaison.fr
SUMMARY:Cérémonie officielle
DESCRIPTION:
URL:https://www.mairie-evin-malmaison.fr/event/ceremonie-officielle-3/
LOCATION:Salle Dutilleul\, EVIN MALMAISON\, France
CATEGORIES:Municipalité
END:VEVENT
BEGIN:VEVENT
DTSTART;TZID=Europe/Paris:20250501T100000
DTEND;TZID=Europe/Paris:20250501T173000
DTSTAMP:20260423T064740
CREATED:20250316T204930Z
LAST-MODIFIED:20250316T204930Z
UID:37560-1746093600-1746120600@www.mairie-evin-malmaison.fr
SUMMARY:Foot - Tournois u12-u13
DESCRIPTION:
URL:https://www.mairie-evin-malmaison.fr/event/foot-tournois-u12-u13/
LOCATION:stade de foot
CATEGORIES:association
ATTACH;FMTTYPE=image/jpeg:https://www.mairie-evin-malmaison.fr/wp-content/uploads/2025/03/WhatsApp-Image-2025-04-07-at-16.26.48-e1744037387181.jpeg
END:VEVENT
END:VCALENDAR