BEGIN:VCALENDAR
VERSION:2.0
PRODID:-//Evin-Malmaison - ECPv6.15.20//NONSGML v1.0//EN
CALSCALE:GREGORIAN
METHOD:PUBLISH
X-WR-CALNAME:Evin-Malmaison
X-ORIGINAL-URL:https://www.mairie-evin-malmaison.fr
X-WR-CALDESC:Évènements pour Evin-Malmaison
REFRESH-INTERVAL;VALUE=DURATION:PT1H
X-Robots-Tag:noindex
X-PUBLISHED-TTL:PT1H
BEGIN:VTIMEZONE
TZID:Europe/Paris
BEGIN:DAYLIGHT
TZOFFSETFROM:+0100
TZOFFSETTO:+0200
TZNAME:CEST
DTSTART:20240331T010000
END:DAYLIGHT
BEGIN:STANDARD
TZOFFSETFROM:+0200
TZOFFSETTO:+0100
TZNAME:CET
DTSTART:20241027T010000
END:STANDARD
BEGIN:DAYLIGHT
TZOFFSETFROM:+0100
TZOFFSETTO:+0200
TZNAME:CEST
DTSTART:20250330T010000
END:DAYLIGHT
BEGIN:STANDARD
TZOFFSETFROM:+0200
TZOFFSETTO:+0100
TZNAME:CET
DTSTART:20251026T010000
END:STANDARD
BEGIN:DAYLIGHT
TZOFFSETFROM:+0100
TZOFFSETTO:+0200
TZNAME:CEST
DTSTART:20260329T010000
END:DAYLIGHT
BEGIN:STANDARD
TZOFFSETFROM:+0200
TZOFFSETTO:+0100
TZNAME:CET
DTSTART:20261025T010000
END:STANDARD
END:VTIMEZONE
BEGIN:VEVENT
DTSTART;TZID=Europe/Paris:20250427T100000
DTEND;TZID=Europe/Paris:20250427T120000
DTSTAMP:20260422T235440
CREATED:20250407T145415Z
LAST-MODIFIED:20250407T145415Z
UID:37604-1745748000-1745755200@www.mairie-evin-malmaison.fr
SUMMARY:Chasse à l'oeuf au terril
DESCRIPTION:
URL:https://www.mairie-evin-malmaison.fr/event/chasse-a-loeuf-au-terril/
LOCATION:Terril
CATEGORIES:association
ATTACH;FMTTYPE=image/jpeg:https://www.mairie-evin-malmaison.fr/wp-content/uploads/2025/03/WhatsApp-Image-2025-04-07-at-16.12.24-e1744037419476.jpeg
END:VEVENT
BEGIN:VEVENT
DTSTART;TZID=Europe/Paris:20250427T100000
DTEND;TZID=Europe/Paris:20250427T170000
DTSTAMP:20260422T235440
CREATED:20250418T093410Z
LAST-MODIFIED:20250418T093410Z
UID:37608-1745748000-1745773200@www.mairie-evin-malmaison.fr
SUMMARY:Pétanque - Mémorial MARCO
DESCRIPTION:
URL:https://www.mairie-evin-malmaison.fr/event/petanque-memorial-marco/
LOCATION:Stade Municipal
CATEGORIES:association
ATTACH;FMTTYPE=image/jpeg:https://www.mairie-evin-malmaison.fr/wp-content/uploads/2025/04/250427-boule-noire-e1744968794329.jpg
END:VEVENT
BEGIN:VEVENT
DTSTART;TZID=Europe/Paris:20250427T103000
DTEND;TZID=Europe/Paris:20250427T120000
DTSTAMP:20260422T235440
CREATED:20250316T210050Z
LAST-MODIFIED:20250316T210050Z
UID:37564-1745749800-1745755200@www.mairie-evin-malmaison.fr
SUMMARY:Cérémonie officielle
DESCRIPTION:
URL:https://www.mairie-evin-malmaison.fr/event/ceremonie-officielle-2/
LOCATION:Hotel de VIlle
CATEGORIES:Municipalité
ATTACH;FMTTYPE=image/jpeg:https://www.mairie-evin-malmaison.fr/wp-content/uploads/2025/04/FB_IMG_1744983301610-e1744983468574.jpg
END:VEVENT
END:VCALENDAR